View In:
ArcGIS JavaScript
ArcGIS Online Map Viewer
ArcGIS Earth
Service Description: This aerial photography was taken by Geophex between the months of April and May 2021, then georeferenced and assembled through September of that year. The resolution of the imagery is an amazing 3 inches. This means that each pixel in the raster represents 3 inches by 3 inches (9 square inches) of terrestial features.
Name: AerialPhoto
Description: This aerial photography was taken by Geophex between the months of April and May 2021, then georeferenced and assembled through September of that year. The resolution of the imagery is an amazing 3 inches. This means that each pixel in the raster represents 3 inches by 3 inches (9 square inches) of terrestial features.
Single Fused Map Cache: false
Extent:
XMin: 1924523.2354312045
YMin: 696486.1118311891
XMax: 1966763.2354312045
YMax: 733446.1118311891
Spatial Reference: 32043
(32043)
LatestVCSWkid(0)
Initial Extent:
XMin: 1924523.2354312045
YMin: 696486.1118311891
XMax: 1966763.2354312045
YMax: 733446.1118311891
Spatial Reference: 32043
(32043)
LatestVCSWkid(0)
Full Extent:
XMin: 1924523.2354312045
YMin: 696486.1118311891
XMax: 1966763.2354312045
YMax: 733446.1118311891
Spatial Reference: 32043
(32043)
LatestVCSWkid(0)
Pixel Size X: 0.25
Pixel Size Y: 0.25
Band Count: 3
Pixel Type: U8
RasterFunction Infos: {"rasterFunctionInfos": [{
"name": "None",
"description": "",
"help": ""
}]}
Mensuration Capabilities: Basic
Inspection Capabilities:
Has Histograms: true
Has Colormap: false
Has Multi Dimensions : false
Rendering Rule:
Min Scale: 0
Max Scale: 0
Resampling: false
Copyright Text:
Service Data Type: esriImageServiceDataTypeRGB
Min Values: 0, 0, 0
Max Values: 255, 255, 255
Mean Values: 126.46544929578421, 122.77240930937674, 111.1818418755374
Standard Deviation Values: 44.05454377773534, 43.695627754227935, 47.86646316368121
Object ID Field:
Fields:
None
Default Mosaic Method: Center
Allowed Mosaic Methods:
SortField:
SortValue: null
Mosaic Operator: First
Default Compression Quality: 75
Default Resampling Method: Bilinear
Max Record Count: null
Max Image Height: 4100
Max Image Width: 15000
Max Download Image Count: null
Max Mosaic Image Count: null
Allow Raster Function: true
Allow Copy: true
Allow Analysis: true
Allow Compute TiePoints: false
Supports Statistics: false
Supports Advanced Queries: false
Use StandardizedQueries: true
Raster Type Infos:
Name: Raster Dataset
Description: Supports all ArcGIS Raster Datasets
Help:
Has Raster Attribute Table: false
Edit Fields Info: null
Ownership Based AccessControl For Rasters: null
Child Resources:
Info
Histograms
Statistics
Key Properties
Legend
Raster Function Infos
Supported Operations:
Export Image
Identify
Measure
Compute Histograms
Compute Statistics Histograms
Get Samples
Compute Class Statistics
Query Boundary
Compute Pixel Location
Compute Angles
Validate
Project