{
 "currentVersion": 11.5,
 "serviceDescription": "This aerial photography was taken by Geophex between the months of April and May 2021, then georeferenced and assembled through September of that year. The resolution of the imagery is an amazing 3 inches. This means that each pixel in the raster represents 3 inches by 3 inches (9 square inches) of terrestial features.",
 "serviceItemId": "736e0aed73d845d8904a14291290cb6e",
 "name": "AerialPhoto",
 "description": "This aerial photography was taken by Geophex between the months of April and May 2021, then georeferenced and assembled through September of that year. The resolution of the imagery is an amazing 3 inches. This means that each pixel in the raster represents 3 inches by 3 inches (9 square inches) of terrestial features.",
 "extent": {
  "xmin": 1924523.2354312045,
  "ymin": 696486.1118311891,
  "xmax": 1966763.2354312045,
  "ymax": 733446.1118311891,
  "spatialReference": {
   "wkid": 32043,
   "latestWkid": 32043
  }
 },
 "initialExtent": {
  "xmin": 1924523.2354312045,
  "ymin": 696486.1118311891,
  "xmax": 1966763.2354312045,
  "ymax": 733446.1118311891,
  "spatialReference": {
   "wkid": 32043,
   "latestWkid": 32043
  }
 },
 "fullExtent": {
  "xmin": 1924523.2354312045,
  "ymin": 696486.1118311891,
  "xmax": 1966763.2354312045,
  "ymax": 733446.1118311891,
  "spatialReference": {
   "wkid": 32043,
   "latestWkid": 32043
  }
 },
 "sortableFields": "",
 "bandCount": 3,
 "pixelType": "U8",
 "minValues": [
  0,
  0,
  0
 ],
 "maxValues": [
  255,
  255,
  255
 ],
 "meanValues": [
  126.46544929578421,
  122.77240930937674,
  111.1818418755374
 ],
 "stdvValues": [
  44.05454377773534,
  43.695627754227935,
  47.86646316368121
 ],
 "serviceProperties": "Center<\/MosaicMethod>First<\/MosaicOperator>true<\/SortAscending><\/LockImageID><\/TileOrderField>0<\/TileOrderBase>0.000000<\/AvgImageSpacingX>0.000000<\/AvgImageSpacingY>0.0<\/ViewPointX>0.0<\/ViewPointY>0.0<\/ViewPointDefShiftX>0.0<\/ViewPointDefShiftY>None<\/CompressionMethod>75<\/CompressionQuality>0.010000<\/CompressionTolerance>Bilinear<\/SamplingMethod><\/ImageServiceProperties><\/ImageServer>",
 "allowedFields": "",
 "hasMultidimensions": false,
 "pixelSizeX": 0.25,
 "pixelSizeY": 0.25,
 "meanPixelSize": 0.07620015240030481,
 "datasetFormat": "SDR",
 "uncompressedSize": 74937139200,
 "blockWidth": 128,
 "blockHeight": 128,
 "compressionType": "LZ77",
 "bandNames": [
  "Band_1",
  "Band_2",
  "Band_3"
 ],
 "allowCopy": true,
 "allowAnalysis": true,
 "itemAccess": false,
 "inspectionCapabilities": "",
 "minPixelSize": 0,
 "maxPixelSize": 0,
 "copyrightText": "",
 "serviceDataType": "esriImageServiceDataTypeRGB",
 "serviceSourceType": "esriImageServiceSourceTypeDataset",
 "objectIdField": "",
 "fields": [],
 "capabilities": "Mensuration,Image,Metadata",
 "defaultMosaicMethod": "Center",
 "allowedMosaicMethods": "",
 "sortField": "",
 "sortValue": null,
 "sortAscending": true,
 "mosaicOperator": "First",
 "defaultCompressionQuality": 75,
 "defaultResamplingMethod": "Bilinear",
 "maxImageHeight": 4100,
 "maxImageWidth": 15000,
 "allowRasterFunction": true,
 "rasterFunctionInfos": [
  {
   "name": "None",
   "description": "",
   "help": ""
  }
 ],
 "rasterTypeInfos": [
  {
   "name": "Raster Dataset",
   "description": "Supports all ArcGIS Raster Datasets",
   "help": ""
  }
 ],
 "mensurationCapabilities": "Basic",
 "hasHistograms": true,
 "hasColormap": false,
 "hasRasterAttributeTable": false,
 "minScale": 0,
 "maxScale": 0,
 "exportTilesAllowed": false,
 "supportsStatistics": false,
 "supportsAdvancedQueries": false,
 "editFieldsInfo": null,
 "ownershipBasedAccessControlForRasters": null,
 "allowComputeTiePoints": false,
 "useStandardizedQueries": true,
 "advancedQueryCapabilities": {
  "useStandardizedQueries": true,
  "supportsStatistics": false,
  "supportsOrderBy": false,
  "supportsDistinct": false,
  "supportsPagination": false
 },
 "spatialReference": {
  "wkid": 32043,
  "latestWkid": 32043
 },
 "resampling": false
}
