View In:
ArcGIS JavaScript
ArcGIS Online Map Viewer
ArcGIS Earth
Service Description: OremAerials/AerialCache2603
Name: OremAerials/AerialCache2603
Description:
Single Fused Map Cache: true
Tile Info:
- Height: 256
- Width: 256
- DPI: 96
-
Levels of Detail: 24
-
Level ID: 0
[ Start Tile, End Tile ]
- Resolution: 948679.6589585517
- Scale: 1.0928811528825574E9
-
Level ID: 1
[ Start Tile, End Tile ]
- Resolution: 474339.82947927585
- Scale: 5.464405764412787E8
-
Level ID: 2
[ Start Tile, End Tile ]
- Resolution: 237169.91473963793
- Scale: 2.7322028822063935E8
-
Level ID: 3
[ Start Tile, End Tile ]
- Resolution: 118584.95736981896
- Scale: 1.3661014411031967E8
-
Level ID: 4
[ Start Tile, End Tile ]
- Resolution: 59292.47868490948
- Scale: 6.830507205515984E7
-
Level ID: 5
[ Start Tile, End Tile ]
- Resolution: 29646.23934245474
- Scale: 3.415253602757992E7
-
Level ID: 6
[ Start Tile, End Tile ]
- Resolution: 14823.11967122737
- Scale: 1.707626801378996E7
-
Level ID: 7
[ Start Tile, End Tile ]
- Resolution: 7411.559835613685
- Scale: 8538134.00689498
-
Level ID: 8
[ Start Tile, End Tile ]
- Resolution: 3705.7799178068426
- Scale: 4269067.00344749
-
Level ID: 9
[ Start Tile, End Tile ]
- Resolution: 1852.8899589034213
- Scale: 2134533.501723745
-
Level ID: 10
[ Start Tile, End Tile ]
- Resolution: 926.4449794517107
- Scale: 1067266.7508618725
-
Level ID: 11
[ Start Tile, End Tile ]
- Resolution: 463.2224897258553
- Scale: 533633.3754309362
-
Level ID: 12
[ Start Tile, End Tile ]
- Resolution: 231.61124486292766
- Scale: 266816.6877154681
-
Level ID: 13
[ Start Tile, End Tile ]
- Resolution: 115.80562243146383
- Scale: 133408.34385773406
-
Level ID: 14
[ Start Tile, End Tile ]
- Resolution: 57.902811215731916
- Scale: 66704.17192886703
-
Level ID: 15
[ Start Tile, End Tile ]
- Resolution: 28.951405607865958
- Scale: 33352.085964433514
-
Level ID: 16
[ Start Tile, End Tile ]
- Resolution: 14.475702803932979
- Scale: 16676.042982216757
-
Level ID: 17
[ Start Tile, End Tile ]
- Resolution: 7.2378514019664895
- Scale: 8338.021491108379
-
Level ID: 18
[ Start Tile, End Tile ]
- Resolution: 3.6189257009832447
- Scale: 4169.010745554189
-
Level ID: 19
[ Start Tile, End Tile ]
- Resolution: 1.8094628504916224
- Scale: 2084.5053727770946
-
Level ID: 20
[ Start Tile, End Tile ]
- Resolution: 0.9047314252458112
- Scale: 1042.2526863885473
-
Level ID: 21
[ Start Tile, End Tile ]
- Resolution: 0.4523657126229056
- Scale: 521.1263431942737
-
Level ID: 22
[ Start Tile, End Tile ]
- Resolution: 0.2261828563114528
- Scale: 260.56317159713683
-
Level ID: 23
[ Start Tile, End Tile ]
- Resolution: 0.1130914281557264
- Scale: 130.28158579856841
- Format: MIXED
- Compression Quality: 90.0
- LERC Error: NaN
- Origin: X: -1.1943099634669462E8
Y: 1.1233083098470698E8
- Spatial Reference: 32043
(32043)
LatestVCSWkid(0)
Storage Info:
- Storage Format: esriMapCacheStorageModeCompactV2
- Packet Size: 128
Extent:
XMin: 1921155.4020884456
YMin: 696508.9656646068
XMax: 1973953.6520884456
YMax: 738749.9656646068
Spatial Reference: 32043
(32043)
LatestVCSWkid(0)
Initial Extent:
XMin: 1921155.4020884456
YMin: 696508.9656646068
XMax: 1973953.6520884456
YMax: 738749.9656646068
Spatial Reference: 32043
(32043)
LatestVCSWkid(0)
Full Extent:
XMin: 1921155.4020884456
YMin: 696508.9656646068
XMax: 1973953.6520884456
YMax: 738749.9656646068
Spatial Reference: 32043
(32043)
LatestVCSWkid(0)
Pixel Size X: 0.25
Pixel Size Y: 0.25
Band Count: 3
Pixel Type: U8
RasterFunction Infos: {"rasterFunctionInfos": [{
"name": "None",
"description": "",
"help": ""
}]}
Mensuration Capabilities: Basic
Inspection Capabilities:
Has Histograms: true
Has Colormap: false
Has Multi Dimensions : false
Rendering Rule:
Min Scale: 533633.3754309362
Max Scale: 130.28158579856841
Min LOD: 11
Max LOD: 23
Resampling: false
Copyright Text:
Service Data Type: esriImageServiceDataTypeRGB
Min Values: 0, 0, 0
Max Values: 255, 255, 255
Mean Values: 114.64909786799637, 115.46550636817331, 117.42139223058439
Standard Deviation Values: 68.63867534247359, 66.5048364586549, 64.65203122534483
Object ID Field:
Fields:
None
Default Mosaic Method: Center
Allowed Mosaic Methods:
SortField:
SortValue: null
Mosaic Operator: First
Default Compression Quality: 75
Default Resampling Method: Bicubic
Max Record Count: null
Max Image Height: 4100
Max Image Width: 15000
Max Download Image Count: null
Max Mosaic Image Count: null
Allow Raster Function: true
Allow Copy: true
Allow Analysis: true
Allow Compute TiePoints: false
Supports Statistics: false
Supports Advanced Queries: false
Use StandardizedQueries: true
Raster Type Infos:
Name: Raster Dataset
Description: Supports all ArcGIS Raster Datasets
Help:
Has Raster Attribute Table: false
Edit Fields Info: null
Ownership Based AccessControl For Rasters: null
Child Resources:
Info
Histograms
Statistics
Key Properties
Legend
Raster Function Infos
Supported Operations:
Export Image
Identify
Measure
Compute Histograms
Compute Statistics Histograms
Get Samples
Compute Class Statistics
Query Boundary
Compute Pixel Location
Compute Angles
Validate
Project