View In:
ArcGIS JavaScript
ArcGIS Online Map Viewer
ArcGIS Earth
Service Description: AerialCache
Name: AerialCache
Description:
Single Fused Map Cache: true
Tile Info:
- Height: 256
- Width: 256
- DPI: 96
-
Levels of Detail: 16
- Format: PNG
- Compression Quality: 0.0
- LERC Error: NaN
- Origin: X: -1.194314E8
Y: 1.470955E8
- Spatial Reference: 32043
(32043)
LatestVCSWkid(0)
Storage Info:
- Storage Format: esriMapCacheStorageModeCompactV2
- Packet Size: 128
Extent:
XMin: 1919499.9033058584
YMin: 696499.9987751842
XMax: 1974499.9033058584
YMax: 741499.9987751842
Spatial Reference: 32043
(32043)
LatestVCSWkid(0)
Initial Extent:
XMin: 1919499.9033058584
YMin: 696499.9987751842
XMax: 1974499.9033058584
YMax: 741499.9987751842
Spatial Reference: 32043
(32043)
LatestVCSWkid(0)
Full Extent:
XMin: 1919499.9033058584
YMin: 696499.9987751842
XMax: 1974499.9033058584
YMax: 741499.9987751842
Spatial Reference: 32043
(32043)
LatestVCSWkid(0)
Pixel Size X: 0.25
Pixel Size Y: 0.25
Band Count: 3
Pixel Type: U8
RasterFunction Infos: {"rasterFunctionInfos": [{
"name": "None",
"description": "",
"help": ""
}]}
Mensuration Capabilities: Basic
Inspection Capabilities:
Has Histograms: true
Has Colormap: false
Has Multi Dimensions : false
Rendering Rule:
Min Scale: 100000000
Max Scale: 250
Min LOD: 0
Max LOD: 15
Resampling: false
Copyright Text:
Service Data Type: esriImageServiceDataTypeRGB
Min Values: 2, 2, 2
Max Values: 255, 255, 255
Mean Values: 155.60815168317166, 156.01235213490523, 155.05624350866702
Standard Deviation Values: 59.26418659548733, 58.877902554588466, 58.88050714188359
Object ID Field:
Fields:
None
Default Mosaic Method: Center
Allowed Mosaic Methods:
SortField:
SortValue: null
Mosaic Operator: First
Default Compression Quality: 90
Default Resampling Method: Bilinear
Max Record Count: null
Max Image Height: 4100
Max Image Width: 15000
Max Download Image Count: null
Max Mosaic Image Count: null
Allow Raster Function: true
Allow Copy: true
Allow Analysis: true
Allow Compute TiePoints: false
Supports Statistics: false
Supports Advanced Queries: false
Use StandardizedQueries: true
Raster Type Infos:
Name: Raster Dataset
Description: Supports all ArcGIS Raster Datasets
Help:
Has Raster Attribute Table: false
Edit Fields Info: null
Ownership Based AccessControl For Rasters: null
Child Resources:
Info
Histograms
Statistics
Key Properties
Legend
Raster Function Infos
Supported Operations:
Export Image
Identify
Measure
Compute Histograms
Compute Statistics Histograms
Get Samples
Compute Class Statistics
Query Boundary
Compute Pixel Location
Compute Angles
Validate
Project