{
 "currentVersion": 11.5,
 "serviceDescription": "OremAerials/AerialCache2603_NAD83",
 "serviceItemId": "a9ec8da0819a465a8fece43e185e14ac",
 "name": "OremAerials/AerialCache2603_NAD83",
 "description": "",
 "extent": {
  "xmin": 1561359,
  "ymin": 7258175.5,
  "xmax": 1608879,
  "ymax": 7300415.5,
  "spatialReference": {
   "wkid": 102743,
   "latestWkid": 3566
  }
 },
 "initialExtent": {
  "xmin": 1561359,
  "ymin": 7258175.5,
  "xmax": 1608879,
  "ymax": 7300415.5,
  "spatialReference": {
   "wkid": 102743,
   "latestWkid": 3566
  }
 },
 "fullExtent": {
  "xmin": 1561359,
  "ymin": 7258175.5,
  "xmax": 1608879,
  "ymax": 7300415.5,
  "spatialReference": {
   "wkid": 102743,
   "latestWkid": 3566
  }
 },
 "sortableFields": "",
 "bandCount": 3,
 "pixelType": "U8",
 "minValues": [
  0,
  0,
  0
 ],
 "maxValues": [
  255,
  255,
  255
 ],
 "meanValues": [
  128.33634610931395,
  121.36024458371847,
  113.61822972766721
 ],
 "stdvValues": [
  60.931721484061654,
  57.776679499719464,
  53.35772579748788
 ],
 "serviceProperties": "Center<\/MosaicMethod>First<\/MosaicOperator>true<\/SortAscending><\/LockImageID><\/TileOrderField>0<\/TileOrderBase>0.000000<\/AvgImageSpacingX>0.000000<\/AvgImageSpacingY>0.0<\/ViewPointX>0.0<\/ViewPointY>0.0<\/ViewPointDefShiftX>0.0<\/ViewPointDefShiftY>JPEG<\/CompressionMethod>75<\/CompressionQuality>0.010000<\/CompressionTolerance>Bilinear<\/SamplingMethod><\/ImageServiceProperties><\/ImageServer>",
 "allowedFields": "",
 "hasMultidimensions": false,
 "pixelSizeX": 0.25,
 "pixelSizeY": 0.25,
 "meanPixelSize": 0.07620015240030481,
 "datasetFormat": "SDR",
 "uncompressedSize": 96347750400,
 "blockWidth": 256,
 "blockHeight": 256,
 "compressionType": "LZ77",
 "bandNames": [
  "Band_1",
  "Band_2",
  "Band_3"
 ],
 "allowCopy": true,
 "allowAnalysis": true,
 "itemAccess": false,
 "inspectionCapabilities": "",
 "minPixelSize": 0.11309698296534804,
 "maxPixelSize": 463.24524222606556,
 "copyrightText": "",
 "serviceDataType": "esriImageServiceDataTypeRGB",
 "serviceSourceType": "esriImageServiceSourceTypeDataset",
 "objectIdField": "",
 "fields": [],
 "capabilities": "Image,Metadata,Pixels,Mensuration,TileMap",
 "defaultMosaicMethod": "Center",
 "allowedMosaicMethods": "",
 "sortField": "",
 "sortValue": null,
 "sortAscending": true,
 "mosaicOperator": "First",
 "defaultCompressionQuality": 75,
 "defaultResamplingMethod": "Bilinear",
 "maxImageHeight": 4100,
 "maxImageWidth": 15000,
 "singleFusedMapCache": true,
 "tileInfo": {
  "rows": 256,
  "cols": 256,
  "dpi": 96,
  "format": "MIXED",
  "compressionQuality": 75,
  "origin": {
   "x": -1.1979654411144307E8,
   "y": 1.1889610745162947E8
  },
  "spatialReference": {
   "wkid": 102743,
   "latestWkid": 3566
  },
  "lods": [
   {
    "level": 0,
    "resolution": 948726.2560789823,
    "scale": 1.0929348328726535E9
   },
   {
    "level": 1,
    "resolution": 474363.12803949113,
    "scale": 5.464674164363267E8
   },
   {
    "level": 2,
    "resolution": 237181.56401974557,
    "scale": 2.732337082181634E8
   },
   {
    "level": 3,
    "resolution": 118590.78200987278,
    "scale": 1.366168541090817E8
   },
   {
    "level": 4,
    "resolution": 59295.39100493639,
    "scale": 6.830842705454084E7
   },
   {
    "level": 5,
    "resolution": 29647.695502468196,
    "scale": 3.415421352727042E7
   },
   {
    "level": 6,
    "resolution": 14823.847751234098,
    "scale": 1.707710676363521E7
   },
   {
    "level": 7,
    "resolution": 7411.923875617049,
    "scale": 8538553.381817605
   },
   {
    "level": 8,
    "resolution": 3705.9619378085245,
    "scale": 4269276.690908803
   },
   {
    "level": 9,
    "resolution": 1852.9809689042622,
    "scale": 2134638.3454544013
   },
   {
    "level": 10,
    "resolution": 926.4904844521311,
    "scale": 1067319.1727272007
   },
   {
    "level": 11,
    "resolution": 463.24524222606556,
    "scale": 533659.5863636003
   },
   {
    "level": 12,
    "resolution": 231.62262111303278,
    "scale": 266829.79318180017
   },
   {
    "level": 13,
    "resolution": 115.81131055651639,
    "scale": 133414.89659090008
   },
   {
    "level": 14,
    "resolution": 57.905655278258195,
    "scale": 66707.44829545004
   },
   {
    "level": 15,
    "resolution": 28.952827639129097,
    "scale": 33353.72414772502
   },
   {
    "level": 16,
    "resolution": 14.476413819564549,
    "scale": 16676.86207386251
   },
   {
    "level": 17,
    "resolution": 7.238206909782274,
    "scale": 8338.431036931255
   },
   {
    "level": 18,
    "resolution": 3.619103454891137,
    "scale": 4169.215518465628
   },
   {
    "level": 19,
    "resolution": 1.8095517274455686,
    "scale": 2084.607759232814
   },
   {
    "level": 20,
    "resolution": 0.9047758637227843,
    "scale": 1042.303879616407
   },
   {
    "level": 21,
    "resolution": 0.45238793186139215,
    "scale": 521.1519398082035
   },
   {
    "level": 22,
    "resolution": 0.22619396593069607,
    "scale": 260.5759699041017
   },
   {
    "level": 23,
    "resolution": 0.11309698296534804,
    "scale": 130.28798495205086
   }
  ]
 },
 "storageInfo": {
  "storageFormat": "esriMapCacheStorageModeCompactV2",
  "packetSize": 128
 },
 "cacheType": "Map",
 "allowRasterFunction": true,
 "rasterFunctionInfos": [
  {
   "name": "None",
   "description": "",
   "help": ""
  }
 ],
 "rasterTypeInfos": [
  {
   "name": "Raster Dataset",
   "description": "Supports all ArcGIS Raster Datasets",
   "help": ""
  }
 ],
 "mensurationCapabilities": "Basic",
 "hasHistograms": true,
 "hasColormap": false,
 "hasRasterAttributeTable": false,
 "minScale": 533659.5863636003,
 "maxScale": 130.28798495205086,
 "minLOD": 11,
 "maxLOD": 23,
 "exportTilesAllowed": false,
 "supportsStatistics": false,
 "supportsAdvancedQueries": false,
 "editFieldsInfo": null,
 "ownershipBasedAccessControlForRasters": null,
 "allowComputeTiePoints": false,
 "useStandardizedQueries": true,
 "advancedQueryCapabilities": {
  "useStandardizedQueries": true,
  "supportsStatistics": false,
  "supportsOrderBy": false,
  "supportsDistinct": false,
  "supportsPagination": false
 },
 "spatialReference": {
  "wkid": 102743,
  "latestWkid": 3566
 }
}
