{
 "currentVersion": 11.5,
 "serviceDescription": "OremAerials/AerialCache2408",
 "serviceItemId": "15f7f1c3d8034ae08aa8aac40b6cf815",
 "name": "OremAerials/AerialCache2408",
 "description": "",
 "extent": {
  "xmin": 1921151.3781488633,
  "ymin": 696509.574502837,
  "xmax": 1973894.6281488633,
  "ymax": 737530.074502837,
  "spatialReference": {
   "wkid": 32043,
   "latestWkid": 32043
  }
 },
 "initialExtent": {
  "xmin": 1921151.3781488633,
  "ymin": 696509.574502837,
  "xmax": 1973894.6281488633,
  "ymax": 737530.074502837,
  "spatialReference": {
   "wkid": 32043,
   "latestWkid": 32043
  }
 },
 "fullExtent": {
  "xmin": 1921151.3781488633,
  "ymin": 696509.574502837,
  "xmax": 1973894.6281488633,
  "ymax": 737530.074502837,
  "spatialReference": {
   "wkid": 32043,
   "latestWkid": 32043
  }
 },
 "sortableFields": "",
 "bandCount": 3,
 "pixelType": "U8",
 "minValues": [
  1,
  1,
  1
 ],
 "maxValues": [
  255,
  255,
  255
 ],
 "meanValues": [
  109.56333124982878,
  105.88773054351624,
  90.71857388702837
 ],
 "stdvValues": [
  67.25629925903932,
  61.583229550498395,
  49.8454270795404
 ],
 "serviceProperties": "Center<\/MosaicMethod>First<\/MosaicOperator>true<\/SortAscending><\/LockImageID><\/TileOrderField>0<\/TileOrderBase>0.000000<\/AvgImageSpacingX>0.000000<\/AvgImageSpacingY>0.0<\/ViewPointX>0.0<\/ViewPointY>0.0<\/ViewPointDefShiftX>0.0<\/ViewPointDefShiftY>JPEG<\/CompressionMethod>75<\/CompressionQuality>0.010000<\/CompressionTolerance>Bicubic<\/SamplingMethod><\/ImageServiceProperties><\/ImageServer>",
 "allowedFields": "",
 "hasMultidimensions": false,
 "pixelSizeX": 0.25,
 "pixelSizeY": 0.25,
 "meanPixelSize": 0.07620015240030481,
 "datasetFormat": "SDR",
 "uncompressedSize": 103850615358,
 "blockWidth": 256,
 "blockHeight": 256,
 "compressionType": "JPEG2000",
 "bandNames": [
  "Band_1",
  "Band_2",
  "Band_3"
 ],
 "allowCopy": true,
 "allowAnalysis": true,
 "itemAccess": false,
 "inspectionCapabilities": "",
 "minPixelSize": 0.1130914281557264,
 "maxPixelSize": 463.2224897258553,
 "copyrightText": "",
 "serviceDataType": "esriImageServiceDataTypeRGB",
 "serviceSourceType": "esriImageServiceSourceTypeDataset",
 "objectIdField": "",
 "fields": [],
 "capabilities": "Mensuration,Image,Metadata",
 "defaultMosaicMethod": "Center",
 "allowedMosaicMethods": "",
 "sortField": "",
 "sortValue": null,
 "sortAscending": true,
 "mosaicOperator": "First",
 "defaultCompressionQuality": 75,
 "defaultResamplingMethod": "Bicubic",
 "maxImageHeight": 4100,
 "maxImageWidth": 15000,
 "singleFusedMapCache": true,
 "tileInfo": {
  "rows": 256,
  "cols": 256,
  "dpi": 96,
  "format": "MIXED",
  "compressionQuality": 90,
  "origin": {
   "x": -1.1943099634669462E8,
   "y": 1.1233083098470698E8
  },
  "spatialReference": {
   "wkid": 32043,
   "latestWkid": 32043
  },
  "lods": [
   {
    "level": 0,
    "resolution": 948679.6589585517,
    "scale": 1.0928811528825574E9
   },
   {
    "level": 1,
    "resolution": 474339.82947927585,
    "scale": 5.464405764412787E8
   },
   {
    "level": 2,
    "resolution": 237169.91473963793,
    "scale": 2.7322028822063935E8
   },
   {
    "level": 3,
    "resolution": 118584.95736981896,
    "scale": 1.3661014411031967E8
   },
   {
    "level": 4,
    "resolution": 59292.47868490948,
    "scale": 6.830507205515984E7
   },
   {
    "level": 5,
    "resolution": 29646.23934245474,
    "scale": 3.415253602757992E7
   },
   {
    "level": 6,
    "resolution": 14823.11967122737,
    "scale": 1.707626801378996E7
   },
   {
    "level": 7,
    "resolution": 7411.559835613685,
    "scale": 8538134.00689498
   },
   {
    "level": 8,
    "resolution": 3705.7799178068426,
    "scale": 4269067.00344749
   },
   {
    "level": 9,
    "resolution": 1852.8899589034213,
    "scale": 2134533.501723745
   },
   {
    "level": 10,
    "resolution": 926.4449794517107,
    "scale": 1067266.7508618725
   },
   {
    "level": 11,
    "resolution": 463.2224897258553,
    "scale": 533633.3754309362
   },
   {
    "level": 12,
    "resolution": 231.61124486292766,
    "scale": 266816.6877154681
   },
   {
    "level": 13,
    "resolution": 115.80562243146383,
    "scale": 133408.34385773406
   },
   {
    "level": 14,
    "resolution": 57.902811215731916,
    "scale": 66704.17192886703
   },
   {
    "level": 15,
    "resolution": 28.951405607865958,
    "scale": 33352.085964433514
   },
   {
    "level": 16,
    "resolution": 14.475702803932979,
    "scale": 16676.042982216757
   },
   {
    "level": 17,
    "resolution": 7.2378514019664895,
    "scale": 8338.021491108379
   },
   {
    "level": 18,
    "resolution": 3.6189257009832447,
    "scale": 4169.010745554189
   },
   {
    "level": 19,
    "resolution": 1.8094628504916224,
    "scale": 2084.5053727770946
   },
   {
    "level": 20,
    "resolution": 0.9047314252458112,
    "scale": 1042.2526863885473
   },
   {
    "level": 21,
    "resolution": 0.4523657126229056,
    "scale": 521.1263431942737
   },
   {
    "level": 22,
    "resolution": 0.2261828563114528,
    "scale": 260.56317159713683
   },
   {
    "level": 23,
    "resolution": 0.1130914281557264,
    "scale": 130.28158579856841
   }
  ]
 },
 "storageInfo": {
  "storageFormat": "esriMapCacheStorageModeExploded",
  "packetSize": 0
 },
 "cacheType": "Map",
 "allowRasterFunction": true,
 "rasterFunctionInfos": [
  {
   "name": "None",
   "description": "",
   "help": ""
  }
 ],
 "rasterTypeInfos": [
  {
   "name": "Raster Dataset",
   "description": "Supports all ArcGIS Raster Datasets",
   "help": ""
  }
 ],
 "mensurationCapabilities": "Basic",
 "hasHistograms": true,
 "hasColormap": false,
 "hasRasterAttributeTable": false,
 "minScale": 533633.3754309362,
 "maxScale": 130.28158579856841,
 "minLOD": 11,
 "maxLOD": 23,
 "exportTilesAllowed": false,
 "supportsStatistics": false,
 "supportsAdvancedQueries": false,
 "editFieldsInfo": null,
 "ownershipBasedAccessControlForRasters": null,
 "allowComputeTiePoints": false,
 "useStandardizedQueries": true,
 "advancedQueryCapabilities": {
  "useStandardizedQueries": true,
  "supportsStatistics": false,
  "supportsOrderBy": false,
  "supportsDistinct": false,
  "supportsPagination": false
 },
 "spatialReference": {
  "wkid": 32043,
  "latestWkid": 32043
 },
 "resampling": false
}
