<?xml version="1.0" encoding="UTF-8" standalone="no"?>
<metadata xml:lang="en">
<Esri>
<CreaDate>20210929</CreaDate>
<CreaTime>14344400</CreaTime>
<ArcGISFormat>1.0</ArcGISFormat>
<SyncOnce>FALSE</SyncOnce>
<DataProperties>
<lineage>
<Process Date="20210929" Time="143444" ToolSource="c:\program files (x86)\arcgis\desktop10.8\ArcToolbox\Toolboxes\Data Management Tools.tbx\CreateRasterDataset">CreateRasterDataset "Database Connections\Knight_GISADMIN.sde" AERIAL2021 0.25 8_BIT_UNSIGNED PROJCS['NAD_1927_StatePlane_Utah_Central_FIPS_4302',GEOGCS['GCS_North_American_1927',DATUM['D_North_American_1927',SPHEROID['Clarke_1866',6378206.4,294.9786982]],PRIMEM['Greenwich',0.0],UNIT['Degree',0.0174532925199433]],PROJECTION['Lambert_Conformal_Conic'],PARAMETER['False_Easting',2000000.0],PARAMETER['False_Northing',0.0],PARAMETER['Central_Meridian',-111.5],PARAMETER['Standard_Parallel_1',39.01666666666667],PARAMETER['Standard_Parallel_2',40.65],PARAMETER['Latitude_Of_Origin',38.33333333333334],UNIT['Foot_US',0.3048006096012192]] 3 # "PYRAMIDS -1 NEAREST DEFAULT 75 NO_SKIP" "128 128" LZ77 "-119430996.346694 77566551.4987752"</Process>
<Process Date="20210930" Time="061601" ToolSource="c:\program files (x86)\arcgis\desktop10.8\ArcToolbox\Toolboxes\Data Management Tools.tbx\Mosaic">Mosaic Mosaic_T00A "Database Connections\Knight_GISADMIN.sde\GISADMIN.AERIAL2021" FIRST FIRST # # NONE 0 NONE</Process>
<Process Date="20210930" Time="120554" ToolSource="c:\program files (x86)\arcgis\desktop10.8\ArcToolbox\Toolboxes\Data Management Tools.tbx\CalculateStatistics">CalculateStatistics C:\Users\roger3338\AppData\Roaming\Esri\Desktop10.8\ArcCatalog\Knight_GISADMIN.sde\GISADMIN.AERIAL2021 100 100 # OVERWRITE "Feature Set"</Process>
<Process Date="20240615" Time="102327" ToolSource="c:\program files\arcgis\pro\Resources\ArcToolbox\toolboxes\Data Management Tools.tbx\CopyRaster">CopyRaster C:\Users\roger3338\Documents\ArcGIS\Projects\Aerial2023\Knight_GISADMIN.sde\GISADMIN.AERIAL202105 C:\Users\roger3338\Documents\ArcGIS\Projects\Aerial2023\Galley_GISADMIN.sde\GISADMIN.AERIAL202105 # # # NONE NONE # NONE NONE "Esri Grid format" NONE CURRENT_SLICE NO_TRANSPOSE</Process>
</lineage>
<itemProps>
<itemName Sync="TRUE">GISADMIN.AERIAL202105</itemName>
<imsContentType Sync="TRUE">002</imsContentType>
<nativeExtBox>
<westBL Sync="TRUE">1919499.903306</westBL>
<eastBL Sync="TRUE">1974499.903306</eastBL>
<southBL Sync="TRUE">696499.998775</southBL>
<northBL Sync="TRUE">741499.998775</northBL>
<exTypeCode Sync="TRUE">1</exTypeCode>
</nativeExtBox>
<itemLocation>
<linkage Sync="TRUE">Server=OREM-SQL; Service=sde:sqlserver:OREM-SQL\OREMSQL; Database=GISIMPORTS; User=GISADMIN; Version=sde.DEFAULT</linkage>
<protocol Sync="TRUE">ArcSDE Connection</protocol>
</itemLocation>
</itemProps>
<coordRef>
<type Sync="TRUE">Projected</type>
<geogcsn Sync="TRUE">GCS_North_American_1927</geogcsn>
<csUnits Sync="TRUE">Linear Unit: Foot_US (0.304801)</csUnits>
<projcsn Sync="TRUE">NAD_1927_StatePlane_Utah_Central_FIPS_4302</projcsn>
<peXml Sync="TRUE">&lt;ProjectedCoordinateSystem xsi:type='typens:ProjectedCoordinateSystem' xmlns:xsi='http://www.w3.org/2001/XMLSchema-instance' xmlns:xs='http://www.w3.org/2001/XMLSchema' xmlns:typens='http://www.esri.com/schemas/ArcGIS/3.3.0'&gt;&lt;WKT&gt;PROJCS[&amp;quot;NAD_1927_StatePlane_Utah_Central_FIPS_4302&amp;quot;,GEOGCS[&amp;quot;GCS_North_American_1927&amp;quot;,DATUM[&amp;quot;D_North_American_1927&amp;quot;,SPHEROID[&amp;quot;Clarke_1866&amp;quot;,6378206.4,294.9786982]],PRIMEM[&amp;quot;Greenwich&amp;quot;,0.0],UNIT[&amp;quot;Degree&amp;quot;,0.0174532925199433]],PROJECTION[&amp;quot;Lambert_Conformal_Conic&amp;quot;],PARAMETER[&amp;quot;False_Easting&amp;quot;,2000000.0],PARAMETER[&amp;quot;False_Northing&amp;quot;,0.0],PARAMETER[&amp;quot;Central_Meridian&amp;quot;,-111.5],PARAMETER[&amp;quot;Standard_Parallel_1&amp;quot;,39.01666666666667],PARAMETER[&amp;quot;Standard_Parallel_2&amp;quot;,40.65],PARAMETER[&amp;quot;Latitude_Of_Origin&amp;quot;,38.33333333333334],UNIT[&amp;quot;Foot_US&amp;quot;,0.3048006096012192],AUTHORITY[&amp;quot;EPSG&amp;quot;,32043]]&lt;/WKT&gt;&lt;XOrigin&gt;-119431400&lt;/XOrigin&gt;&lt;YOrigin&gt;-95767300&lt;/YOrigin&gt;&lt;XYScale&gt;37087603.596520297&lt;/XYScale&gt;&lt;ZOrigin&gt;-100000&lt;/ZOrigin&gt;&lt;ZScale&gt;10000&lt;/ZScale&gt;&lt;MOrigin&gt;-100000&lt;/MOrigin&gt;&lt;MScale&gt;10000&lt;/MScale&gt;&lt;XYTolerance&gt;0.0032808333333333331&lt;/XYTolerance&gt;&lt;ZTolerance&gt;0.00020000000000000001&lt;/ZTolerance&gt;&lt;MTolerance&gt;0.00020000000000000001&lt;/MTolerance&gt;&lt;HighPrecision&gt;true&lt;/HighPrecision&gt;&lt;WKID&gt;32043&lt;/WKID&gt;&lt;LatestWKID&gt;32043&lt;/LatestWKID&gt;&lt;/ProjectedCoordinateSystem&gt;</peXml>
</coordRef>
</DataProperties>
<SyncDate>20240615</SyncDate>
<SyncTime>10232600</SyncTime>
<ModDate>20240615</ModDate>
<ModTime>10232600</ModTime>
</Esri>
<dataIdInfo>
<envirDesc Sync="TRUE">Microsoft Windows 10 Version 10.0 (Build 22631) ; Esri ArcGIS 13.3.0.52636</envirDesc>
<dataLang>
<languageCode Sync="TRUE" value="eng"/>
<countryCode Sync="TRUE" value="USA"/>
</dataLang>
<idCitation>
<resTitle Sync="TRUE">AerialCache</resTitle>
<presForm>
<PresFormCd Sync="TRUE" value="011"/>
</presForm>
</idCitation>
<spatRpType>
<SpatRepTypCd Sync="TRUE" value="002"/>
</spatRpType>
<dataExt>
<geoEle>
<GeoBndBox esriExtentType="search">
<exTypeCode Sync="TRUE">1</exTypeCode>
<westBL Sync="TRUE">-111.788903</westBL>
<eastBL Sync="TRUE">-111.591351</eastBL>
<northBL Sync="TRUE">40.369080</northBL>
<southBL Sync="TRUE">40.245226</southBL>
</GeoBndBox>
</geoEle>
</dataExt>
<idAbs/>
<searchKeys>
<keyword>basemap</keyword>
<keyword>aerial photography</keyword>
<keyword>terrain</keyword>
<keyword>raster</keyword>
<keyword>geophex</keyword>
</searchKeys>
<idPurp>This aerial photography was taken by Geophex between the months of April and May 2021, then georeferenced and assembled through September of that year. The resolution of the imagery is an amazing 3 inches. This means that each pixel in the raster represents 3 inches by 3 inches (9 square inches) of terrestial features.</idPurp>
<idCredit/>
<resConst>
<Consts>
<useLimit/>
</Consts>
</resConst>
</dataIdInfo>
<mdLang>
<languageCode Sync="TRUE" value="eng"/>
<countryCode Sync="TRUE" value="USA"/>
</mdLang>
<distInfo>
<distFormat>
<formatName Sync="TRUE">Enterprise Geodatabase Raster Dataset</formatName>
</distFormat>
</distInfo>
<mdHrLv>
<ScopeCd Sync="TRUE" value="005"/>
</mdHrLv>
<mdHrLvName Sync="TRUE">dataset</mdHrLvName>
<refSysInfo>
<RefSystem>
<refSysID>
<identCode Sync="TRUE" code="32043"/>
<idCodeSpace Sync="TRUE">EPSG</idCodeSpace>
<idVersion Sync="TRUE">2.1(3.0.1)</idVersion>
</refSysID>
</RefSystem>
</refSysInfo>
<spdoinfo>
<rastinfo>
<rasttype Sync="TRUE">Pixel</rasttype>
<rowcount Sync="TRUE">180000</rowcount>
<colcount Sync="TRUE">220000</colcount>
<rastxsz Sync="TRUE">0.250000</rastxsz>
<rastysz Sync="TRUE">0.250000</rastysz>
<rastbpp Sync="TRUE">8</rastbpp>
<vrtcount Sync="TRUE">1</vrtcount>
<rastorig Sync="TRUE">Upper Left</rastorig>
<rastcmap Sync="TRUE">FALSE</rastcmap>
<rastcomp Sync="TRUE">LZ77</rastcomp>
<rastband Sync="TRUE">3</rastband>
<rastdtyp Sync="TRUE">pixel codes</rastdtyp>
<rastifor Sync="TRUE">SDR</rastifor>
<rastplyr Sync="TRUE">TRUE</rastplyr>
</rastinfo>
</spdoinfo>
<spref>
<horizsys>
<planar>
<planci>
<plance Sync="TRUE">row and column</plance>
<coordrep>
<absres Sync="TRUE">0.250000</absres>
<ordres Sync="TRUE">0.250000</ordres>
</coordrep>
</planci>
</planar>
</horizsys>
</spref>
<mdDateSt Sync="TRUE">20240615</mdDateSt>
</metadata>
