{
 "currentVersion": 11.5,
 "serviceDescription": "AerialCache",
 "serviceItemId": "61821b2250f24655b67f3c553791a4f0",
 "name": "AerialCache",
 "description": "",
 "extent": {
  "xmin": 1919499.9033058584,
  "ymin": 696499.9987751842,
  "xmax": 1974499.9033058584,
  "ymax": 741499.9987751842,
  "spatialReference": {
   "wkid": 32043,
   "latestWkid": 32043
  }
 },
 "initialExtent": {
  "xmin": 1919499.9033058584,
  "ymin": 696499.9987751842,
  "xmax": 1974499.9033058584,
  "ymax": 741499.9987751842,
  "spatialReference": {
   "wkid": 32043,
   "latestWkid": 32043
  }
 },
 "fullExtent": {
  "xmin": 1919499.9033058584,
  "ymin": 696499.9987751842,
  "xmax": 1974499.9033058584,
  "ymax": 741499.9987751842,
  "spatialReference": {
   "wkid": 32043,
   "latestWkid": 32043
  }
 },
 "sortableFields": "",
 "bandCount": 3,
 "pixelType": "U8",
 "minValues": [
  2,
  2,
  2
 ],
 "maxValues": [
  255,
  255,
  255
 ],
 "meanValues": [
  155.60815168317166,
  156.01235213490523,
  155.05624350866702
 ],
 "stdvValues": [
  59.26418659548733,
  58.877902554588466,
  58.88050714188359
 ],
 "serviceProperties": "Center<\/MosaicMethod>First<\/MosaicOperator>true<\/SortAscending><\/LockImageID><\/TileOrderField>0<\/TileOrderBase>0.000000<\/AvgImageSpacingX>0.000000<\/AvgImageSpacingY>0.0<\/ViewPointX>0.0<\/ViewPointY>0.0<\/ViewPointDefShiftX>0.0<\/ViewPointDefShiftY>None<\/CompressionMethod>90<\/CompressionQuality>0.010000<\/CompressionTolerance>Bilinear<\/SamplingMethod><\/ImageServiceProperties><\/ImageServer>",
 "allowedFields": "",
 "hasMultidimensions": false,
 "pixelSizeX": 0.25,
 "pixelSizeY": 0.25,
 "meanPixelSize": 0.07620015240030481,
 "datasetFormat": "SDR",
 "uncompressedSize": 118800000000,
 "blockWidth": 128,
 "blockHeight": 128,
 "compressionType": "LZ77",
 "bandNames": [
  "Band_1",
  "Band_2",
  "Band_3"
 ],
 "allowCopy": true,
 "allowAnalysis": true,
 "itemAccess": false,
 "inspectionCapabilities": "",
 "minPixelSize": 0.21701388888888887,
 "maxPixelSize": 86805.55555555555,
 "copyrightText": "",
 "serviceDataType": "esriImageServiceDataTypeRGB",
 "serviceSourceType": "esriImageServiceSourceTypeDataset",
 "objectIdField": "",
 "fields": [],
 "capabilities": "Mensuration,Image,Metadata",
 "defaultMosaicMethod": "Center",
 "allowedMosaicMethods": "",
 "sortField": "",
 "sortValue": null,
 "sortAscending": true,
 "mosaicOperator": "First",
 "defaultCompressionQuality": 90,
 "defaultResamplingMethod": "Bilinear",
 "maxImageHeight": 4100,
 "maxImageWidth": 15000,
 "singleFusedMapCache": true,
 "tileInfo": {
  "rows": 256,
  "cols": 256,
  "dpi": 96,
  "format": "PNG",
  "compressionQuality": 0,
  "origin": {
   "x": -119431400,
   "y": 147095500
  },
  "spatialReference": {
   "wkid": 32043,
   "latestWkid": 32043
  },
  "lods": [
   {
    "level": 0,
    "resolution": 130.20833333333331,
    "scale": 150000
   },
   {
    "level": 1,
    "resolution": 108.50694444444444,
    "scale": 125000
   },
   {
    "level": 2,
    "resolution": 86.80555555555556,
    "scale": 100000
   },
   {
    "level": 3,
    "resolution": 65.10416666666666,
    "scale": 75000
   },
   {
    "level": 4,
    "resolution": 55.55555555555555,
    "scale": 64000
   },
   {
    "level": 5,
    "resolution": 43.40277777777778,
    "scale": 50000
   },
   {
    "level": 6,
    "resolution": 27.777777777777775,
    "scale": 32000
   },
   {
    "level": 7,
    "resolution": 21.70138888888889,
    "scale": 25000
   },
   {
    "level": 8,
    "resolution": 13.888888888888888,
    "scale": 16000
   },
   {
    "level": 9,
    "resolution": 8.680555555555555,
    "scale": 10000
   },
   {
    "level": 10,
    "resolution": 6.944444444444444,
    "scale": 8000
   },
   {
    "level": 11,
    "resolution": 3.472222222222222,
    "scale": 4000
   },
   {
    "level": 12,
    "resolution": 1.736111111111111,
    "scale": 2000
   },
   {
    "level": 13,
    "resolution": 0.8680555555555555,
    "scale": 1000
   },
   {
    "level": 14,
    "resolution": 0.43402777777777773,
    "scale": 500
   },
   {
    "level": 15,
    "resolution": 0.21701388888888887,
    "scale": 250
   }
  ]
 },
 "storageInfo": {
  "storageFormat": "esriMapCacheStorageModeCompactV2",
  "packetSize": 128
 },
 "cacheType": "Map",
 "allowRasterFunction": true,
 "rasterFunctionInfos": [
  {
   "name": "None",
   "description": "",
   "help": ""
  }
 ],
 "rasterTypeInfos": [
  {
   "name": "Raster Dataset",
   "description": "Supports all ArcGIS Raster Datasets",
   "help": ""
  }
 ],
 "mensurationCapabilities": "Basic",
 "hasHistograms": true,
 "hasColormap": false,
 "hasRasterAttributeTable": false,
 "minScale": 100000000,
 "maxScale": 250,
 "minLOD": 0,
 "maxLOD": 15,
 "exportTilesAllowed": false,
 "supportsStatistics": false,
 "supportsAdvancedQueries": false,
 "editFieldsInfo": null,
 "ownershipBasedAccessControlForRasters": null,
 "allowComputeTiePoints": false,
 "useStandardizedQueries": true,
 "advancedQueryCapabilities": {
  "useStandardizedQueries": true,
  "supportsStatistics": false,
  "supportsOrderBy": false,
  "supportsDistinct": false,
  "supportsPagination": false
 },
 "spatialReference": {
  "wkid": 32043,
  "latestWkid": 32043
 },
 "resampling": false
}
